BEGIN:VCALENDAR
VERSION:2.0
PRODID:-//Avalonia Land Conservancy - ECPv6.15.20//NONSGML v1.0//EN
CALSCALE:GREGORIAN
METHOD:PUBLISH
X-ORIGINAL-URL:https://avalonia.org
X-WR-CALDESC:Events for Avalonia Land Conservancy
REFRESH-INTERVAL;VALUE=DURATION:PT1H
X-Robots-Tag:noindex
X-PUBLISHED-TTL:PT1H
BEGIN:VTIMEZONE
TZID:America/New_York
BEGIN:DAYLIGHT
TZOFFSETFROM:-0500
TZOFFSETTO:-0400
TZNAME:EDT
DTSTART:20230312T070000
END:DAYLIGHT
BEGIN:STANDARD
TZOFFSETFROM:-0400
TZOFFSETTO:-0500
TZNAME:EST
DTSTART:20231105T060000
END:STANDARD
BEGIN:DAYLIGHT
TZOFFSETFROM:-0500
TZOFFSETTO:-0400
TZNAME:EDT
DTSTART:20240310T070000
END:DAYLIGHT
BEGIN:STANDARD
TZOFFSETFROM:-0400
TZOFFSETTO:-0500
TZNAME:EST
DTSTART:20241103T060000
END:STANDARD
BEGIN:DAYLIGHT
TZOFFSETFROM:-0500
TZOFFSETTO:-0400
TZNAME:EDT
DTSTART:20250309T070000
END:DAYLIGHT
BEGIN:STANDARD
TZOFFSETFROM:-0400
TZOFFSETTO:-0500
TZNAME:EST
DTSTART:20251102T060000
END:STANDARD
END:VTIMEZONE
BEGIN:VEVENT
DTSTART;TZID=America/New_York:20240921T090000
DTEND;TZID=America/New_York:20240921T120000
DTSTAMP:20260421T074642
CREATED:20240918T165253Z
LAST-MODIFIED:20240921T123534Z
UID:8307-1726909200-1726920000@avalonia.org
SUMMARY:(CANCELED BOTH DAYS) Stewardship Work Party at Alden Fish Family Preserve
DESCRIPTION:Join us Saturday morning\, September 21 at 9:00 a.m. (rain date 9/22) at Avalonia’s new Alden Fish Family Preserve in Groton and be a part of our efforts at managing this 42 acre preserve.   \n \nThis event will focus on clearing the invasive Japanese Knotweed along Sandy Hollow Rd.  \nVolunteers are asked to bring gloves\, sturdy footwear\, drinking water\, and bug spray.  If you have loppers or clippers feel free to bring them.  Please register so that we can better plan for this no-cost event. A confirmation email will contain additional event details including specifics regarding parking.  Please contact Director of Stewardship\, Tobias Glaza at tglaza@avalonialc.org for more information. \nREGISTER HERE \n 
URL:https://avalonia.org/event/stewardship-work-party-at-alden-fish-family-preserve/
LOCATION:Alden Fish Family Preserve\, 0 Sandy Hollow Rd.\, Groton\, 06340\, United States
CATEGORIES:Conservation,Educational,Stewardship,Volunteering
ATTACH;FMTTYPE=image/png:https://avalonia.org/wp-content/uploads/2024/09/Screen-Shot-2024-09-18-at-11.34.23-AM.png
END:VEVENT
END:VCALENDAR