BEGIN:VCALENDAR
VERSION:2.0
PRODID:-//Avalonia Land Conservancy - ECPv6.15.20//NONSGML v1.0//EN
CALSCALE:GREGORIAN
METHOD:PUBLISH
X-WR-CALNAME:Avalonia Land Conservancy
X-ORIGINAL-URL:https://avalonia.org
X-WR-CALDESC:Events for Avalonia Land Conservancy
REFRESH-INTERVAL;VALUE=DURATION:PT1H
X-Robots-Tag:noindex
X-PUBLISHED-TTL:PT1H
BEGIN:VTIMEZONE
TZID:America/New_York
BEGIN:DAYLIGHT
TZOFFSETFROM:-0500
TZOFFSETTO:-0400
TZNAME:EDT
DTSTART:20230312T070000
END:DAYLIGHT
BEGIN:STANDARD
TZOFFSETFROM:-0400
TZOFFSETTO:-0500
TZNAME:EST
DTSTART:20231105T060000
END:STANDARD
BEGIN:DAYLIGHT
TZOFFSETFROM:-0500
TZOFFSETTO:-0400
TZNAME:EDT
DTSTART:20240310T070000
END:DAYLIGHT
BEGIN:STANDARD
TZOFFSETFROM:-0400
TZOFFSETTO:-0500
TZNAME:EST
DTSTART:20241103T060000
END:STANDARD
BEGIN:DAYLIGHT
TZOFFSETFROM:-0500
TZOFFSETTO:-0400
TZNAME:EDT
DTSTART:20250309T070000
END:DAYLIGHT
BEGIN:STANDARD
TZOFFSETFROM:-0400
TZOFFSETTO:-0500
TZNAME:EST
DTSTART:20251102T060000
END:STANDARD
END:VTIMEZONE
BEGIN:VEVENT
DTSTART;TZID=America/New_York:20240915T090000
DTEND;TZID=America/New_York:20240915T120000
DTSTAMP:20260421T044414
CREATED:20240906T112815Z
LAST-MODIFIED:20240906T112815Z
UID:8178-1726390800-1726401600@avalonia.org
SUMMARY:Stewardship and Trail walk at the Glemboski-Ous Preserve in Bozrah and Montville
DESCRIPTION:…an opportunity to enjoy the beautiful post-Labor Day autumnal weather…\nWe would like to invite you to join us from 9-12 Sunday\, September 15th at the nearly 160 acre Glemboski-Ous Preserve to assist Avalonia’s stewardship team in posting our preserve boundaries\, light trail maintenance\, and blazing/marking our existing trail system. \nAs we traverse the old logging roads\, cross and\, in some cases\, follow the wending Trading Cove Brook\, and pass through rocky ledges and outcrops\, there will be plenty of time to enjoy\, not just the work and comradery\, but also the splendor of this beautiful preserve. No experience is required and there will be opportunities to learn about the basics of preserve monitoring\, boundary posting\, methods for maintaining and enhancing wildlife habitat\, and other aspects of preserve stewardship. \n \nVolunteers are asked to bring gloves\, sturdy footwear\, drinking water\, and bug spray.  If you have loppers or clippers feel free to bring them.  Please register so that we can better plan for this no-cost event. A confirmation email will contain additional event details including specifics regarding parking.  Please contact Director of Stewardship\, Tobias Glaza at tglaza@avalonialc.org for more information. \nREGISTER HERE \n 
URL:https://avalonia.org/event/stewardship-and-trail-walk-at-the-glemboski-ous-preserve-in-bozrah-and-montville/
LOCATION:Glemboski-Ous Preserve\, South Road\, Bozrah\, United States
CATEGORIES:Conservation,Educational,Stewardship,Volunteering
ATTACH;FMTTYPE=image/jpeg:https://avalonia.org/wp-content/uploads/2024/04/Forested-Wetland-Glemboski-e1725571515678.jpg
END:VEVENT
BEGIN:VEVENT
DTSTART;TZID=America/New_York:20240921T090000
DTEND;TZID=America/New_York:20240921T120000
DTSTAMP:20260421T044414
CREATED:20240918T165253Z
LAST-MODIFIED:20240921T123534Z
UID:8307-1726909200-1726920000@avalonia.org
SUMMARY:(CANCELED BOTH DAYS) Stewardship Work Party at Alden Fish Family Preserve
DESCRIPTION:Join us Saturday morning\, September 21 at 9:00 a.m. (rain date 9/22) at Avalonia’s new Alden Fish Family Preserve in Groton and be a part of our efforts at managing this 42 acre preserve.   \n \nThis event will focus on clearing the invasive Japanese Knotweed along Sandy Hollow Rd.  \nVolunteers are asked to bring gloves\, sturdy footwear\, drinking water\, and bug spray.  If you have loppers or clippers feel free to bring them.  Please register so that we can better plan for this no-cost event. A confirmation email will contain additional event details including specifics regarding parking.  Please contact Director of Stewardship\, Tobias Glaza at tglaza@avalonialc.org for more information. \nREGISTER HERE \n 
URL:https://avalonia.org/event/stewardship-work-party-at-alden-fish-family-preserve/
LOCATION:Alden Fish Family Preserve\, 0 Sandy Hollow Rd.\, Groton\, 06340\, United States
CATEGORIES:Conservation,Educational,Stewardship,Volunteering
ATTACH;FMTTYPE=image/png:https://avalonia.org/wp-content/uploads/2024/09/Screen-Shot-2024-09-18-at-11.34.23-AM.png
END:VEVENT
BEGIN:VEVENT
DTSTART;TZID=America/New_York:20240929T090000
DTEND;TZID=America/New_York:20240929T120000
DTSTAMP:20260421T044414
CREATED:20240911T184136Z
LAST-MODIFIED:20240912T191518Z
UID:8231-1727600400-1727611200@avalonia.org
SUMMARY:Stewardship and Trail Walk at Pike Marshall Preserve in Ledyard
DESCRIPTION:Please join us Sunday morning\, September 29 from 9:00 -12:00 at Avalonia’s Pike Marshall Preserve in Ledyard as we continue our efforts at managing this beautiful 272-acre property!  \nMoss covered stones at Pike Marshall\nIn June of last year\, The Nature Conservancy transferred ownership of Pike Marshall Preserve to Avalonia and we\, along with our various partners\, are excited to initiate the next stages of preserve management.  This particular event\, sponsored in collaboration with Mike Marelli and the Ledyard Conservation Commission\, will focus on light maintenance of portions of the existing trail network.  This will have the combined effect of enhancing passive recreation opportunities\, emergency access\, and convenient passage to the interior of the preserve for stewardship activity. Whether you are new to Avalonia or a longtime volunteer this will be chance to get acquainted with (or reacquainted with) some of the basics of preserve stewardship in an informal and friendly setting. \nParticipants will meet at the Burton Property to the rear of Ledyard High School and the walk and trail work will go from there through the town owned Burton property to Avalonia’s Pike Marshall Preserve\, focusing on clearing the causeway trail. Consider also setting aside time to hike the other trails and explore the diversity of habitats\, from forest\, to riparian\, and to ridge lines. \nVolunteers are asked to bring gloves\, sturdy footwear\, drinking water\, and bug spray.  If you have loppers or clippers feel free to bring them.   Please register so that we can better plan for this no-cost event. A confirmation email will contain additional event details including specifics regarding parking.  Please contact Director of Stewardship\, Tobias Glaza at tglaza@avalonialc.org for more information. \nREGISTER HERE \n 
URL:https://avalonia.org/event/stewardship-and-trail-walk-at-pike-marshall-preserve-in-ledyard/
LOCATION:Burton Property\, Burton Property\, Ledyard\, CT\, 06339\, United States
CATEGORIES:Conservation,Educational,Stewardship,Volunteering
ATTACH;FMTTYPE=image/jpeg:https://avalonia.org/wp-content/uploads/2024/09/Pike-Marshall-Preserve-2024-5-16-17-scaled.jpg
END:VEVENT
END:VCALENDAR