BEGIN:VCALENDAR
VERSION:2.0
PRODID:-//Avalonia Land Conservancy - ECPv6.15.20//NONSGML v1.0//EN
CALSCALE:GREGORIAN
METHOD:PUBLISH
X-WR-CALNAME:Avalonia Land Conservancy
X-ORIGINAL-URL:https://avalonia.org
X-WR-CALDESC:Events for Avalonia Land Conservancy
REFRESH-INTERVAL;VALUE=DURATION:PT1H
X-Robots-Tag:noindex
X-PUBLISHED-TTL:PT1H
BEGIN:VTIMEZONE
TZID:America/New_York
BEGIN:DAYLIGHT
TZOFFSETFROM:-0500
TZOFFSETTO:-0400
TZNAME:EDT
DTSTART:20230312T070000
END:DAYLIGHT
BEGIN:STANDARD
TZOFFSETFROM:-0400
TZOFFSETTO:-0500
TZNAME:EST
DTSTART:20231105T060000
END:STANDARD
BEGIN:DAYLIGHT
TZOFFSETFROM:-0500
TZOFFSETTO:-0400
TZNAME:EDT
DTSTART:20240310T070000
END:DAYLIGHT
BEGIN:STANDARD
TZOFFSETFROM:-0400
TZOFFSETTO:-0500
TZNAME:EST
DTSTART:20241103T060000
END:STANDARD
BEGIN:DAYLIGHT
TZOFFSETFROM:-0500
TZOFFSETTO:-0400
TZNAME:EDT
DTSTART:20250309T070000
END:DAYLIGHT
BEGIN:STANDARD
TZOFFSETFROM:-0400
TZOFFSETTO:-0500
TZNAME:EST
DTSTART:20251102T060000
END:STANDARD
END:VTIMEZONE
BEGIN:VEVENT
DTSTART;TZID=America/New_York:20240831T090000
DTEND;TZID=America/New_York:20240831T110000
DTSTAMP:20260424T074636
CREATED:20240829T220233Z
LAST-MODIFIED:20240829T220233Z
UID:8166-1725094800-1725102000@avalonia.org
SUMMARY:Short Notice Stewardship Opportunity- Japanese Barberry Removal at Avalonia’s Pine Swamp Wildlife Corridor in Ledyard
DESCRIPTION:You are invited to join us this Saturday August 31 from 9-11am as we work to manage a Japanese barberry infestation at our Pine Swamp Wildlife Corridor. Many hands will make light work and together it is expected that we will make significant progress in controlling this invasive plant species.  Plans are to hand pull and dig out the barberry. If we make short work of it\, there’s always some wisteria to cut!  Poison ivy shouldn’t be an issue in this particular area\, and the bugs seem to be very mild of late. \nWe will meet at the end of Merry Lane in Ledyard and walk in 1/10-mile counter-clockwise on the blue trail.  Bring a shovel & loppers. Long sleeves\, sturdy footwear\, good gloves\, and drinking water encouraged. Work at your own at your pace and stay as long as you wish.  Although registration is not required\, please consider sending an email to Director of Stewardship (tglaza@avalonialc.org) express your interest in attending ( for planning purposes). \nHope to see you on Saturday! \n\n \n \n\n \n\n\n\n 
URL:https://avalonia.org/event/short-notice-stewardship-opportunity-japanese-barberry-removal-at-avalonias-pine-swamp-wildlife-corridor-in-ledyard/
CATEGORIES:Stewardship,Volunteering
ATTACH;FMTTYPE=image/jpeg:https://avalonia.org/wp-content/uploads/2021/09/Pine-Swamp.jpg
END:VEVENT
END:VCALENDAR