BEGIN:VCALENDAR
VERSION:2.0
PRODID:-//Avalonia Land Conservancy - ECPv6.15.20//NONSGML v1.0//EN
CALSCALE:GREGORIAN
METHOD:PUBLISH
X-WR-CALNAME:Avalonia Land Conservancy
X-ORIGINAL-URL:https://avalonia.org
X-WR-CALDESC:Events for Avalonia Land Conservancy
REFRESH-INTERVAL;VALUE=DURATION:PT1H
X-Robots-Tag:noindex
X-PUBLISHED-TTL:PT1H
BEGIN:VTIMEZONE
TZID:America/New_York
BEGIN:DAYLIGHT
TZOFFSETFROM:-0500
TZOFFSETTO:-0400
TZNAME:EDT
DTSTART:20220313T070000
END:DAYLIGHT
BEGIN:STANDARD
TZOFFSETFROM:-0400
TZOFFSETTO:-0500
TZNAME:EST
DTSTART:20221106T060000
END:STANDARD
BEGIN:DAYLIGHT
TZOFFSETFROM:-0500
TZOFFSETTO:-0400
TZNAME:EDT
DTSTART:20230312T070000
END:DAYLIGHT
BEGIN:STANDARD
TZOFFSETFROM:-0400
TZOFFSETTO:-0500
TZNAME:EST
DTSTART:20231105T060000
END:STANDARD
BEGIN:DAYLIGHT
TZOFFSETFROM:-0500
TZOFFSETTO:-0400
TZNAME:EDT
DTSTART:20240310T070000
END:DAYLIGHT
BEGIN:STANDARD
TZOFFSETFROM:-0400
TZOFFSETTO:-0500
TZNAME:EST
DTSTART:20241103T060000
END:STANDARD
END:VTIMEZONE
BEGIN:VEVENT
DTSTART;TZID=America/New_York:20231007T090000
DTEND;TZID=America/New_York:20231007T113000
DTSTAMP:20260423T043519
CREATED:20230825T165158Z
LAST-MODIFIED:20231006T154218Z
UID:6612-1696669200-1696678200@avalonia.org
SUMMARY:Join Us to Paint the Preserve at Preston Nature Preserve *CANCELLED*
DESCRIPTION:*THIS EVENT HAS BEEN CANCELLED*\nJoin fellow artists and Avalonia’s Office Manager\, Mary Anne Sherman\, who will lead you on a short hike through the Preston Nature Preserve to paint en plein air. It’s an idyllic place for an outdoor painting event. Artists of all skill levels and mediums are invited. Learn from and share with other artists\, enjoy being in nature\, and create your next masterpiece. We will meet at the parking area\, hike a short distance\, and paint to our heart’s content. \n\nThis is the second of two Paint the Preserve events. The first event is planned for Knox Preserve in Stonington on Saturday\, September 9\, 2023.\n \nPLEASE REGISTER HERE\n \nSuggestions:  Bring your own easel and painting equipment\, water\, bug spray\, and sunscreen.\n \nParking:  Ample off-street lot\, grass surface\, room for about a dozen cars\, no parking space accessible to people with disabilities. The lot is located on 38 Krug Road at the PNP trailhead. Additional parking is available along Krug Road. \nTrails:  Mostly mowed grass surface pathways through open meadows\, some slopes\, some areas with roots and rocks in the pathway\, as well as occasional protruding branches. \nIn case of inclement weather\, participants will be notified of a cancellation via email no later than 2 hours before the event. \nAvalonia Accessibility Statement \nFor more information\, please contact Mary Anne Sherman at info@avalonialc.com or (860) 884-3500.
URL:https://avalonia.org/event/join-us-to-paint-the-preserve-at-preston-nature-preserve/
LOCATION:Preston Nature Preserve\, Krug Road\, Preston\, CT\, United States
CATEGORIES:Arts,Nature,Preserves
ATTACH;FMTTYPE=image/jpeg:https://avalonia.org/wp-content/uploads/2023/08/Paint-the-Preserve-Preston-Nature-Preserve-scaled.jpeg
END:VEVENT
END:VCALENDAR