BEGIN:VCALENDAR
VERSION:2.0
PRODID:-//Avalonia Land Conservancy - ECPv6.15.20//NONSGML v1.0//EN
CALSCALE:GREGORIAN
METHOD:PUBLISH
X-ORIGINAL-URL:https://avalonia.org
X-WR-CALDESC:Events for Avalonia Land Conservancy
REFRESH-INTERVAL;VALUE=DURATION:PT1H
X-Robots-Tag:noindex
X-PUBLISHED-TTL:PT1H
BEGIN:VTIMEZONE
TZID:America/New_York
BEGIN:DAYLIGHT
TZOFFSETFROM:-0500
TZOFFSETTO:-0400
TZNAME:EDT
DTSTART:20230312T070000
END:DAYLIGHT
BEGIN:STANDARD
TZOFFSETFROM:-0400
TZOFFSETTO:-0500
TZNAME:EST
DTSTART:20231105T060000
END:STANDARD
BEGIN:DAYLIGHT
TZOFFSETFROM:-0500
TZOFFSETTO:-0400
TZNAME:EDT
DTSTART:20240310T070000
END:DAYLIGHT
BEGIN:STANDARD
TZOFFSETFROM:-0400
TZOFFSETTO:-0500
TZNAME:EST
DTSTART:20241103T060000
END:STANDARD
BEGIN:DAYLIGHT
TZOFFSETFROM:-0500
TZOFFSETTO:-0400
TZNAME:EDT
DTSTART:20250309T070000
END:DAYLIGHT
BEGIN:STANDARD
TZOFFSETFROM:-0400
TZOFFSETTO:-0500
TZNAME:EST
DTSTART:20251102T060000
END:STANDARD
END:VTIMEZONE
BEGIN:VEVENT
DTSTART;TZID=America/New_York:20240224T100000
DTEND;TZID=America/New_York:20240224T120000
DTSTAMP:20260424T224440
CREATED:20240219T170006Z
LAST-MODIFIED:20240219T170006Z
UID:7327-1708768800-1708776000@avalonia.org
SUMMARY:Volunteer work party at Samuel Lamb and Forsberg Preserve\, in Ledyard
DESCRIPTION:Please consider joining us for our inaugural stewardship event of 2024.  Avalonia’s Ledyard Town Committee is organizing a work party at the Samuel Lamb and Forsberg Preserve in Ledyard for this coming Saturday (2/24).  Our efforts will be devoted to clearing vegetation from the stone wall that runs along Shewville Road. \nThis work will complement our earlier mowing efforts\, designed to keep the fields open for birds and pollinators. Over the years invasive vines and shrubs have found refuge along the boundaries of this field and have begun to encroach inward.  Winter season is a great time to cut these back\, allowing for increased access in the spring for another round of more intensive management efforts. Work at your own pace and stay for as long as your time and energy allow.  \nThere is no designated parking area for this preserve\, but there is ample parking along Town Farm Road. Please exercise caution exiting and entering your vehicles. \nPlease bring any clippers\, pruners\, or loppers you may have. If you don’t have any\, there will be extras on site for your use. The weather looks like it will cooperate\, but in the event that it’s necessary\, we’ve set aside the next day\, Sunday 2/25\, as an alternate. \nWhile not required\, by registering here we will be able to better plan for this free event. \nLooking forward to seeing you!! \nLocation: Samuel Lamb and Forsberg Preserve \nDate/Time: February 24th 10-12 \nRain/Snow Date: Sunday February 25th 10-12 \nWear/bring: warm clothing\, boots\, sturdy pants\, gloves\, hand tool(s) of choice \n  \n  \n  \n  \n  \n 
URL:https://avalonia.org/event/volunteer-work-party-at-samuel-lamb-and-forsberg-preserve-in-ledyard/
LOCATION:Samuel Lamb and Forsberg Preserve\, Town Farm Road\, Ledyard\, CT\, United States
CATEGORIES:Conservation,Stewardship,Volunteering
ATTACH;FMTTYPE=image/jpeg:https://avalonia.org/wp-content/uploads/2024/02/Samuel-Lamb-Forsberg-Preserve-2023-12-5-03-scaled.jpg
END:VEVENT
END:VCALENDAR