BEGIN:VCALENDAR
VERSION:2.0
PRODID:-//Avalonia Land Conservancy - ECPv6.15.20//NONSGML v1.0//EN
CALSCALE:GREGORIAN
METHOD:PUBLISH
X-WR-CALNAME:Avalonia Land Conservancy
X-ORIGINAL-URL:https://avalonia.org
X-WR-CALDESC:Events for Avalonia Land Conservancy
REFRESH-INTERVAL;VALUE=DURATION:PT1H
X-Robots-Tag:noindex
X-PUBLISHED-TTL:PT1H
BEGIN:VTIMEZONE
TZID:America/New_York
BEGIN:DAYLIGHT
TZOFFSETFROM:-0500
TZOFFSETTO:-0400
TZNAME:EDT
DTSTART:20240310T070000
END:DAYLIGHT
BEGIN:STANDARD
TZOFFSETFROM:-0400
TZOFFSETTO:-0500
TZNAME:EST
DTSTART:20241103T060000
END:STANDARD
BEGIN:DAYLIGHT
TZOFFSETFROM:-0500
TZOFFSETTO:-0400
TZNAME:EDT
DTSTART:20250309T070000
END:DAYLIGHT
BEGIN:STANDARD
TZOFFSETFROM:-0400
TZOFFSETTO:-0500
TZNAME:EST
DTSTART:20251102T060000
END:STANDARD
BEGIN:DAYLIGHT
TZOFFSETFROM:-0500
TZOFFSETTO:-0400
TZNAME:EDT
DTSTART:20260308T070000
END:DAYLIGHT
BEGIN:STANDARD
TZOFFSETFROM:-0400
TZOFFSETTO:-0500
TZNAME:EST
DTSTART:20261101T060000
END:STANDARD
END:VTIMEZONE
BEGIN:VEVENT
DTSTART;TZID=America/New_York:20250426T110000
DTEND;TZID=America/New_York:20250426T160000
DTSTAMP:20260422T015950
CREATED:20250225T193613Z
LAST-MODIFIED:20250225T193613Z
UID:9161-1745665200-1745683200@avalonia.org
SUMMARY:Groton Earth Day 2025
DESCRIPTION:SAVE THE DATE! \nJoin Avalonia and scores of vendors at the Groton Public Library on Saturday\, April 26\, 2025 (rain or shine)\, from 11 am – 4 PM for this annual event that aims to educate and inspire attendees to live more sustainably and take meaningful action against climate change. \nStay tuned for more details about the day’s activities and events.
URL:https://avalonia.org/event/groton-earth-day-2025/
LOCATION:Groton Public Library\, 52 Newtown Road\, Groton\, CT\, 06340
CATEGORIES:Community
ATTACH;FMTTYPE=image/jpeg:https://avalonia.org/wp-content/uploads/2024/04/IMG_0225-2-scaled.jpg
END:VEVENT
END:VCALENDAR