BEGIN:VCALENDAR
VERSION:2.0
PRODID:-//Avalonia Land Conservancy - ECPv6.15.20//NONSGML v1.0//EN
CALSCALE:GREGORIAN
METHOD:PUBLISH
X-ORIGINAL-URL:https://avalonia.org
X-WR-CALDESC:Events for Avalonia Land Conservancy
REFRESH-INTERVAL;VALUE=DURATION:PT1H
X-Robots-Tag:noindex
X-PUBLISHED-TTL:PT1H
BEGIN:VTIMEZONE
TZID:America/New_York
BEGIN:DAYLIGHT
TZOFFSETFROM:-0500
TZOFFSETTO:-0400
TZNAME:EDT
DTSTART:20200308T070000
END:DAYLIGHT
BEGIN:STANDARD
TZOFFSETFROM:-0400
TZOFFSETTO:-0500
TZNAME:EST
DTSTART:20201101T060000
END:STANDARD
BEGIN:DAYLIGHT
TZOFFSETFROM:-0500
TZOFFSETTO:-0400
TZNAME:EDT
DTSTART:20210314T070000
END:DAYLIGHT
BEGIN:STANDARD
TZOFFSETFROM:-0400
TZOFFSETTO:-0500
TZNAME:EST
DTSTART:20211107T060000
END:STANDARD
BEGIN:DAYLIGHT
TZOFFSETFROM:-0500
TZOFFSETTO:-0400
TZNAME:EDT
DTSTART:20220313T070000
END:DAYLIGHT
BEGIN:STANDARD
TZOFFSETFROM:-0400
TZOFFSETTO:-0500
TZNAME:EST
DTSTART:20221106T060000
END:STANDARD
END:VTIMEZONE
BEGIN:VEVENT
DTSTART;TZID=America/New_York:20211008T130000
DTEND;TZID=America/New_York:20211008T143000
DTSTAMP:20260425T121550
CREATED:20210901T130406Z
LAST-MODIFIED:20210902T121835Z
UID:4902-1633698000-1633703400@avalonia.org
SUMMARY:Right Trees for the Right Time Online Workshop: Part 2
DESCRIPTION:Judy Benson\, CT Sea Grant \nFocused on New England forests\, this October workshop is provided through a Long Island Sound Study Futures Fund Grant led by the University of Connecticut’s Sea Grant program in collaboration with the Avalonia Land Conservancy and the Northern Institute of Applied Climate Science (NIACS).  \nThe 4-part program will be virtual\, except for one field-based component that can focus a 2-hour trip to a local forest to apply the principles that your team will be learning. The total time commitment will be about 6-8 hours over the month of October.  \nThe 4-part program:   \n\nOctober 1\, 2021 (Friday) from 1-2:30 PM EST. VIRTUAL\, RECORDED\nOctober 8\, 2021 (Friday) from 1-2:30 EST. A VIRTUAL interactive session\nApproximately 2 hours for Field Work at a time\, date and local forest of your team’s choosing. Alternatively\, your team can visit the Hoffman Evergreen Preserve in Stonington\, CT on Saturday October 16 from noon to 2 PM with a rain date of Sunday October 17.\nOctober 22\, 2021 (Friday) from 1 – 2:30 EST. A VIRTUAL interactive session \n\nThis Workshop is offered at no cost\, but please gather a core team of participants (2-4) who can participate in all four sessions of the workshop. If you cannot raise a team\, but wish to participate individually\, we can accommodate you if you can commit to the four workshop sessions.   \nPlease click on links below: \nWorkshop Information \nWorkshop Registration \nThis workshop builds on the information presented in the 4-part UConn CLEAR webinar series\, Finding the Right Trees for the Right Time (See archived webinars).  However\, you do not need to have listened in on webinars to participate in the workshop.  \nYou can read more about the Hoffman Evergreen Preserve Project here. \nIf you have any questions\, please contact Juliana Barrett (CT Sea Grant): Juliana.barrett@uconn.edu or Sharon Lynch (Avalonia Land Conservancy): slynch@gwu.edu
URL:https://avalonia.org/event/right-trees-for-the-right-time-online-workshop-part-2/
LOCATION:Virtual
CATEGORIES:Workshops
ATTACH;FMTTYPE=image/jpeg:https://avalonia.org/wp-content/uploads/2021/09/right-trees-workshop-e1633706782514.jpg
END:VEVENT
END:VCALENDAR