BEGIN:VCALENDAR
VERSION:2.0
PRODID:-//Avalonia Land Conservancy - ECPv6.15.20//NONSGML v1.0//EN
CALSCALE:GREGORIAN
METHOD:PUBLISH
X-ORIGINAL-URL:https://avalonia.org
X-WR-CALDESC:Events for Avalonia Land Conservancy
REFRESH-INTERVAL;VALUE=DURATION:PT1H
X-Robots-Tag:noindex
X-PUBLISHED-TTL:PT1H
BEGIN:VTIMEZONE
TZID:America/New_York
BEGIN:DAYLIGHT
TZOFFSETFROM:-0500
TZOFFSETTO:-0400
TZNAME:EDT
DTSTART:20210314T070000
END:DAYLIGHT
BEGIN:STANDARD
TZOFFSETFROM:-0400
TZOFFSETTO:-0500
TZNAME:EST
DTSTART:20211107T060000
END:STANDARD
BEGIN:DAYLIGHT
TZOFFSETFROM:-0500
TZOFFSETTO:-0400
TZNAME:EDT
DTSTART:20220313T070000
END:DAYLIGHT
BEGIN:STANDARD
TZOFFSETFROM:-0400
TZOFFSETTO:-0500
TZNAME:EST
DTSTART:20221106T060000
END:STANDARD
BEGIN:DAYLIGHT
TZOFFSETFROM:-0500
TZOFFSETTO:-0400
TZNAME:EDT
DTSTART:20230312T070000
END:DAYLIGHT
BEGIN:STANDARD
TZOFFSETFROM:-0400
TZOFFSETTO:-0500
TZNAME:EST
DTSTART:20231105T060000
END:STANDARD
END:VTIMEZONE
BEGIN:VEVENT
DTSTART;TZID=America/New_York:20220514T100000
DTEND;TZID=America/New_York:20220514T120000
DTSTAMP:20260425T062522
CREATED:20220501T155242Z
LAST-MODIFIED:20220501T155242Z
UID:5365-1652522400-1652529600@avalonia.org
SUMMARY:In Search of Birds and Beavers
DESCRIPTION:The Donald R. Henne Memorial Preserve in North Stonington is a case study of the benefits of the Clean Water Act\, which is celebrating a half-century of safeguarding the nation’s water resources. On Saturday\, May 14th\, from 10 a.m. to 12 noon\, we’ll explore Henne and its wetlands\, which have become a haven for fish\, aquatic invertebrates\, especially dragonflies\, aquatic plants\, waterfowl\, and an assortment of other birds that thrive in wetlands habitats. In a slow-paced\, mile and a half\, family friendly hike led by Avalonia naturalist Bruce Fellman\, we’ll first comb the uplands for returning migratory songbirds and newly awakened Gray tree frogs then follow the trail along the edge of Henne’s freshwater marshes in search of Osprey\, tree swallows\, which nest in tree holes hammered out by woodpeckers\, singing warblers\, and the refuge’s signature species\, the Great blue heron. A recent heron count documented 22 nests\, many of them active\, in a rapidly expanding rookery area\, and we’ll zero in on the nests to look for the first hatchlings. \n \nWe’ll also scan the water and the woods for signs of beavers. These premier wetlands architects have recently been very active at Henne and resulted in semi-submerged sections of trail\, so wear waterproof boots! Bring binoculars\, bug spray\, cameras\, kids\, and your curiosity. \nAll attendees must be fully vaccinated and\, if possible\, boosted; since we’ll be outside\, masks are not required. \nREGISTER \nBruce Fellman can be reached at fellnature@sbcglobal.net or by phone: 860-599-4867. Heavy rain will postpone to the 15th\, same time.
URL:https://avalonia.org/event/in-search-of-birds-and-beavers/
LOCATION:Donald R. Henne Memorial Preserve\, Babcock Road\, North Stonington\, CT\, 06359\, United States
CATEGORIES:Nature,Walks,Water
ATTACH;FMTTYPE=image/jpeg:https://avalonia.org/wp-content/uploads/2022/05/DSC_1522AredwingedHenne.jpg
END:VEVENT
END:VCALENDAR