BEGIN:VCALENDAR
VERSION:2.0
PRODID:-//Avalonia Land Conservancy - ECPv6.15.20//NONSGML v1.0//EN
CALSCALE:GREGORIAN
METHOD:PUBLISH
X-ORIGINAL-URL:https://avalonia.org
X-WR-CALDESC:Events for Avalonia Land Conservancy
REFRESH-INTERVAL;VALUE=DURATION:PT1H
X-Robots-Tag:noindex
X-PUBLISHED-TTL:PT1H
BEGIN:VTIMEZONE
TZID:America/New_York
BEGIN:DAYLIGHT
TZOFFSETFROM:-0500
TZOFFSETTO:-0400
TZNAME:EDT
DTSTART:20210314T070000
END:DAYLIGHT
BEGIN:STANDARD
TZOFFSETFROM:-0400
TZOFFSETTO:-0500
TZNAME:EST
DTSTART:20211107T060000
END:STANDARD
BEGIN:DAYLIGHT
TZOFFSETFROM:-0500
TZOFFSETTO:-0400
TZNAME:EDT
DTSTART:20220313T070000
END:DAYLIGHT
BEGIN:STANDARD
TZOFFSETFROM:-0400
TZOFFSETTO:-0500
TZNAME:EST
DTSTART:20221106T060000
END:STANDARD
BEGIN:DAYLIGHT
TZOFFSETFROM:-0500
TZOFFSETTO:-0400
TZNAME:EDT
DTSTART:20230312T070000
END:DAYLIGHT
BEGIN:STANDARD
TZOFFSETFROM:-0400
TZOFFSETTO:-0500
TZNAME:EST
DTSTART:20231105T060000
END:STANDARD
END:VTIMEZONE
BEGIN:VEVENT
DTSTART;TZID=America/New_York:20220323T183000
DTEND;TZID=America/New_York:20220323T200000
DTSTAMP:20260425T105708
CREATED:20220225T202958Z
LAST-MODIFIED:20220225T203641Z
UID:5183-1648060200-1648065600@avalonia.org
SUMMARY:A Vernal Pool Adventure\, Babcock Ridge Preserve
DESCRIPTION:Babcock Rd\, North Stonington \nSpring is right around the corner\, and the frogs\, salamanders\, and aquatic invertebrates that have spent the colder season in hiding will be coming back to life in the temporary wetlands known as vernal pools. \nAt twilight\, we’ll hike the trail—it’s about a half-mile\, somewhat hilly walk—to a group of vernals in Avalonia’s Babcock Ridge Preserve to search for such creatures as Wood Frogs and Spring Peepers\, Spotted and Marbled Salamanders\, and Fairy Shrimp. We might also hear the booming hoots of Barred Owls and the peents of Woodcock. \nBring a flashlight\, wear warm clothes and waterproof boots\, and don’t forget your spirit of adventure on this family-friendly exploration of a fascinating part of the natural world. Walk leader Bruce Fellman has been introducing people to vernal pool life for almost half-a-century. \nAll attendees must be fully vaccinated and\, if possible\, boosted; since we’ll be outside\, masks are not required. \nNote: heavy rain will postpone to the 24th\, same time\, but light rain will be just perfect for bringing out the critters; dress accordingly.  \nRegister
URL:https://avalonia.org/event/a-vernal-pool-adventure-babcock-ridge-preserve-3/
CATEGORIES:Water
ATTACH;FMTTYPE=image/jpeg:https://avalonia.org/wp-content/uploads/2022/02/vernal-pools.jpg
END:VEVENT
END:VCALENDAR