BEGIN:VCALENDAR
VERSION:2.0
PRODID:-//Avalonia Land Conservancy - ECPv6.15.20//NONSGML v1.0//EN
CALSCALE:GREGORIAN
METHOD:PUBLISH
X-WR-CALNAME:Avalonia Land Conservancy
X-ORIGINAL-URL:https://avalonia.org
X-WR-CALDESC:Events for Avalonia Land Conservancy
REFRESH-INTERVAL;VALUE=DURATION:PT1H
X-Robots-Tag:noindex
X-PUBLISHED-TTL:PT1H
BEGIN:VTIMEZONE
TZID:America/New_York
BEGIN:DAYLIGHT
TZOFFSETFROM:-0500
TZOFFSETTO:-0400
TZNAME:EDT
DTSTART:20150308T070000
END:DAYLIGHT
BEGIN:STANDARD
TZOFFSETFROM:-0400
TZOFFSETTO:-0500
TZNAME:EST
DTSTART:20151101T060000
END:STANDARD
BEGIN:DAYLIGHT
TZOFFSETFROM:-0500
TZOFFSETTO:-0400
TZNAME:EDT
DTSTART:20160313T070000
END:DAYLIGHT
BEGIN:STANDARD
TZOFFSETFROM:-0400
TZOFFSETTO:-0500
TZNAME:EST
DTSTART:20161106T060000
END:STANDARD
BEGIN:DAYLIGHT
TZOFFSETFROM:-0500
TZOFFSETTO:-0400
TZNAME:EDT
DTSTART:20170312T070000
END:DAYLIGHT
BEGIN:STANDARD
TZOFFSETFROM:-0400
TZOFFSETTO:-0500
TZNAME:EST
DTSTART:20171105T060000
END:STANDARD
BEGIN:DAYLIGHT
TZOFFSETFROM:-0500
TZOFFSETTO:-0400
TZNAME:EDT
DTSTART:20180311T070000
END:DAYLIGHT
BEGIN:STANDARD
TZOFFSETFROM:-0400
TZOFFSETTO:-0500
TZNAME:EST
DTSTART:20181104T060000
END:STANDARD
BEGIN:DAYLIGHT
TZOFFSETFROM:-0500
TZOFFSETTO:-0400
TZNAME:EDT
DTSTART:20190310T070000
END:DAYLIGHT
BEGIN:STANDARD
TZOFFSETFROM:-0400
TZOFFSETTO:-0500
TZNAME:EST
DTSTART:20191103T060000
END:STANDARD
END:VTIMEZONE
BEGIN:VEVENT
DTSTART;TZID=America/New_York:20180429T140000
DTEND;TZID=America/New_York:20180429T160000
DTSTAMP:20260421T030147
CREATED:20180417T163358Z
LAST-MODIFIED:20180417T163358Z
UID:2459-1525010400-1525017600@avalonia.org
SUMMARY:History & Nature Hike at Perry Natural Area
DESCRIPTION:April 29\,  2-4 pm.  \nPerry Natural Area\, North Anguilla Road in Stonington (directions) \nBeth Sullivan will lead a hike with Beth Moore from Stonington Historical Society. A joint effort to look at the history and nature of the area. \nParking is limited at site\,  so roadside parking will be necessary where ever possible.
URL:https://avalonia.org/event/history-nature-hike-at-perry-natural-area/
CATEGORIES:Educational,Exploration,Hikes,Preserves,Properties
END:VEVENT
BEGIN:VEVENT
DTSTART;TZID=America/New_York:20170422T100000
DTEND;TZID=America/New_York:20170422T100000
DTSTAMP:20260421T030147
CREATED:20170131T153846Z
LAST-MODIFIED:20170407T124705Z
UID:1451-1492855200-1492855200@avalonia.org
SUMMARY:Benedict Benson Dedication w/ Guided Hike on Earth Day
DESCRIPTION:with naturalist Bruce Fellman \nSwantown Hill Road in North Stonington\nLat/Lon: 41.4772679\, -71.9264603
URL:https://avalonia.org/event/guided-walk-through-benedict-benson-preserve/
LOCATION:Benedict Benson Preserve\, Swantown Hill Road\, North Stonington\, CT\, 06359\, United States
CATEGORIES:Hikes,Properties
END:VEVENT
BEGIN:VEVENT
DTSTART;TZID=America/New_York:20160514T100000
DTEND;TZID=America/New_York:20160514T100000
DTSTAMP:20260421T030147
CREATED:20160509T144251Z
LAST-MODIFIED:20160509T144251Z
UID:921-1463220000-1463220000@avalonia.org
SUMMARY:BABCOCK RIDGE DEDICATION
DESCRIPTION:We completed the acquisition of this beautiful property last spring. Now we have signs\, trails\, and  water crossings in place and are ready to proudly introduce it to the Avalonia membership. \nJoin us for the dedication\, rain or shine\, meeting at the preserve entrance at 113 Babcock Road. \nFormalities will be minimal\, and light refreshments will be served. There will be ample opportunity to explore the newly installed trails\, which connect with those on the popular Henne and Erisman preserves.
URL:https://avalonia.org/event/babcock-ridge-dedication/
LOCATION:Babcock Ridge\, 113 Babcock Road\, North Stonington\, CT\, United States
CATEGORIES:Properties
END:VEVENT
END:VCALENDAR