BEGIN:VCALENDAR
VERSION:2.0
PRODID:-//Avalonia Land Conservancy - ECPv6.15.20//NONSGML v1.0//EN
CALSCALE:GREGORIAN
METHOD:PUBLISH
X-ORIGINAL-URL:https://avalonia.org
X-WR-CALDESC:Events for Avalonia Land Conservancy
REFRESH-INTERVAL;VALUE=DURATION:PT1H
X-Robots-Tag:noindex
X-PUBLISHED-TTL:PT1H
BEGIN:VTIMEZONE
TZID:America/New_York
BEGIN:DAYLIGHT
TZOFFSETFROM:-0500
TZOFFSETTO:-0400
TZNAME:EDT
DTSTART:20220313T070000
END:DAYLIGHT
BEGIN:STANDARD
TZOFFSETFROM:-0400
TZOFFSETTO:-0500
TZNAME:EST
DTSTART:20221106T060000
END:STANDARD
BEGIN:DAYLIGHT
TZOFFSETFROM:-0500
TZOFFSETTO:-0400
TZNAME:EDT
DTSTART:20230312T070000
END:DAYLIGHT
BEGIN:STANDARD
TZOFFSETFROM:-0400
TZOFFSETTO:-0500
TZNAME:EST
DTSTART:20231105T060000
END:STANDARD
BEGIN:DAYLIGHT
TZOFFSETFROM:-0500
TZOFFSETTO:-0400
TZNAME:EDT
DTSTART:20240310T070000
END:DAYLIGHT
BEGIN:STANDARD
TZOFFSETFROM:-0400
TZOFFSETTO:-0500
TZNAME:EST
DTSTART:20241103T060000
END:STANDARD
END:VTIMEZONE
BEGIN:VEVENT
DTSTART;TZID=America/New_York:20230909T090000
DTEND;TZID=America/New_York:20230909T113000
DTSTAMP:20260423T161755
CREATED:20230825T151445Z
LAST-MODIFIED:20230828T133827Z
UID:6609-1694250000-1694259000@avalonia.org
SUMMARY:Join Us to Paint the Preserve at Knox Preserve
DESCRIPTION:Knox Preserve in Stonington is a former farm that runs along Quiambog Cove\, just off Route 1 on Wilcox Road. With sweeping views of old orchards\, fields\, and of course the cove itself\, it’s an idyllic place for an outdoor painting event. \n \nJoin Avalonia’s Office Manager\, Mary Anne Sherman\, who will lead artists on a short hike through the preserve to spots overlooking the meadows and cove. Artists of all skill levels and mediums are invited. Learn from and share with other artists\, enjoy being in nature\, and create your next masterpiece. We will meet at the entrance to the Preserve\, hike a short distance\, and paint to our heart’s content.\n \nThis is the first of two Paint the Preserve events planned: the second event will be on Saturday\, October 7\, 2023\, at Preston Nature Preserve.\n \nPLEASE REGISTER HERE\n \nSuggestions: Bring your own easel and painting equipment\, water\, bug spray\, and sunscreen.\n \nParking: Park along the right side of Wilcox Road\, approximately 200 feet south of Route 1. The preserve is across the road. \nTrails: This is a short hike with an elevation of less than 50 feet on mowed grass or packed dirt with some roots and rocks in the pathway\, as well as occasional protruding branches. \nIn case of inclement weather\, participants will be notified of a cancellation via email no later than 2 hours before the event. \nAvalonia Accessibility Statement\nhttps://avalonia.org/accessibility-for-people-with-disabilities-statement/ \nFor more information\, please contact Mary Anne Sherman at info@avalonialc.com or (860) 884-3500.
URL:https://avalonia.org/event/join-us-to-paint-the-preserve-at-knox-preserve/
LOCATION:Knox Preserve\, Wilcox Road\, Stonington\, CT\, 06378\, United States
CATEGORIES:Arts,Nature,Preserves
ATTACH;FMTTYPE=image/jpeg:https://avalonia.org/wp-content/uploads/2023/08/Knox-Preserve-water-9_22-sunny.jpg
END:VEVENT
END:VCALENDAR