BEGIN:VCALENDAR
VERSION:2.0
PRODID:-//Avalonia Land Conservancy - ECPv6.15.20//NONSGML v1.0//EN
CALSCALE:GREGORIAN
METHOD:PUBLISH
X-ORIGINAL-URL:https://avalonia.org
X-WR-CALDESC:Events for Avalonia Land Conservancy
REFRESH-INTERVAL;VALUE=DURATION:PT1H
X-Robots-Tag:noindex
X-PUBLISHED-TTL:PT1H
BEGIN:VTIMEZONE
TZID:America/New_York
BEGIN:DAYLIGHT
TZOFFSETFROM:-0500
TZOFFSETTO:-0400
TZNAME:EDT
DTSTART:20220313T070000
END:DAYLIGHT
BEGIN:STANDARD
TZOFFSETFROM:-0400
TZOFFSETTO:-0500
TZNAME:EST
DTSTART:20221106T060000
END:STANDARD
BEGIN:DAYLIGHT
TZOFFSETFROM:-0500
TZOFFSETTO:-0400
TZNAME:EDT
DTSTART:20230312T070000
END:DAYLIGHT
BEGIN:STANDARD
TZOFFSETFROM:-0400
TZOFFSETTO:-0500
TZNAME:EST
DTSTART:20231105T060000
END:STANDARD
BEGIN:DAYLIGHT
TZOFFSETFROM:-0500
TZOFFSETTO:-0400
TZNAME:EDT
DTSTART:20240310T070000
END:DAYLIGHT
BEGIN:STANDARD
TZOFFSETFROM:-0400
TZOFFSETTO:-0500
TZNAME:EST
DTSTART:20241103T060000
END:STANDARD
END:VTIMEZONE
BEGIN:VEVENT
DTSTART;TZID=America/New_York:20230805T100000
DTEND;TZID=America/New_York:20230805T120000
DTSTAMP:20260423T181722
CREATED:20230721T140442Z
LAST-MODIFIED:20230721T140810Z
UID:6543-1691229600-1691236800@avalonia.org
SUMMARY:Explore the Preston Nature Preserve's Field of Natural History Dreams
DESCRIPTION:Explore Preston Nature Preserve’s Field of Natural History Dreams\nDon’t be fooled: a natural meadow may look like an unkempt lawn that a lazy homeowner has taken a holiday from mowing\, but look closer and you’ll discover an amazing and fascinating array of biological diversity. \nThe Preston Nature Preserve (PNP) offers explorers a pathway through several interconnected meadows that are at their prettiest in August. On Saturday\, August 5th\, from 10 a.m. to at least noon\, Avalonia naturalist Bruce Fellman will guide visitors on a leisurely tour of the 56-acre refuge’s treasure trove of native plants\, insects\, and birds that thrive in the fields\, as well as in the surrounding woods and wetlands. The botanical star of the meadow show is an expanse of Bee Balm\, a native member of the mint family whose showy pink\, red\, and purple flowers are butterfly\, bee\, and beetle magnets. If we’re lucky and patient\, we’re often blessed with sightings of hummingbird moths\, pint-sized hummer mimics that find Bee Balm blooms irresistible—and this is just the tip of the floral iceberg. Joe Pye Weed\, goldenrod\, native grass\, thistle\, and aster flowers will also be bringing in the pollinators. The milkweeds\, though past their blossom time\, will still be attracting Monarch butterflies\, whose eggs and leaf-eating caterpillars we’ll seek. Last but hardly least\, the PNP banquet usually includes a variety of dragonflies\, birds\, frogs\, and even a deer or two. \nBring binoculars\, hand lenses\, cameras\, notebooks\, your natural history curiosity\, and\, if you have them\, your kids and grandkids. Don’t forget the sunscreen\, bug spray\, water\, and a hat—it’s an easy 1.5 mile hike\, but it can be bright and hot in the fields. Rain date Sunday August 6. For more information\, contact Bruce Fellman\, 860-599-4867\, or bruce.fellman@yale.edu. \nRegister Here \nAccessibility Note \nParking: Ample off-street lot\, grass surface\, room for about a dozen cars\, no parking space accessible to people with disabilities. Lot located on 38 Krug Road at the PNP trailhead. Additional parking available along Krug Road. \nTrails: Mostly mowed grass surface pathways through open meadows\, some slopes\, wide enough for several people to traverse side-by-side. One quarter-mile stretch of trail through upland woods\, hilly and narrow\, with some roots and rocks in the pathway\, as well as occasional protruding branches. \nCommunication: This walk will be amplified (Bruce will use a portable microphone system)\, with sign language interpretation available upon request. It will include sonograms of bird calls that we hear to provide pictorial representations of their songs. \nAvalonia Accessibility Statement: https://avalonia.org/accessibility-for-people-with-disabilities-statement/ If you have questions on the accessibility of this event\, please call Avalonia at 860-884-3500 or email accessibility@avalonia.org. \n \n  \n \nPhoto credit: Bruce Fellman
URL:https://avalonia.org/event/explore-the-preston-nature-preserves-field-of-natural-history-dreams/
LOCATION:Preston Nature Preserve\, Krug Road\, Preston\, CT\, United States
CATEGORIES:Hikes,Nature
ATTACH;FMTTYPE=image/jpeg:https://avalonia.org/wp-content/uploads/2023/07/DSC_8989AsnowberryclearPNP.jpg
END:VEVENT
END:VCALENDAR