BEGIN:VCALENDAR
VERSION:2.0
PRODID:-//Avalonia Land Conservancy - ECPv6.15.20//NONSGML v1.0//EN
CALSCALE:GREGORIAN
METHOD:PUBLISH
X-WR-CALNAME:Avalonia Land Conservancy
X-ORIGINAL-URL:https://avalonia.org
X-WR-CALDESC:Events for Avalonia Land Conservancy
REFRESH-INTERVAL;VALUE=DURATION:PT1H
X-Robots-Tag:noindex
X-PUBLISHED-TTL:PT1H
BEGIN:VTIMEZONE
TZID:America/New_York
BEGIN:DAYLIGHT
TZOFFSETFROM:-0500
TZOFFSETTO:-0400
TZNAME:EDT
DTSTART:20140309T070000
END:DAYLIGHT
BEGIN:STANDARD
TZOFFSETFROM:-0400
TZOFFSETTO:-0500
TZNAME:EST
DTSTART:20141102T060000
END:STANDARD
BEGIN:DAYLIGHT
TZOFFSETFROM:-0500
TZOFFSETTO:-0400
TZNAME:EDT
DTSTART:20150308T070000
END:DAYLIGHT
BEGIN:STANDARD
TZOFFSETFROM:-0400
TZOFFSETTO:-0500
TZNAME:EST
DTSTART:20151101T060000
END:STANDARD
BEGIN:DAYLIGHT
TZOFFSETFROM:-0500
TZOFFSETTO:-0400
TZNAME:EDT
DTSTART:20160313T070000
END:DAYLIGHT
BEGIN:STANDARD
TZOFFSETFROM:-0400
TZOFFSETTO:-0500
TZNAME:EST
DTSTART:20161106T060000
END:STANDARD
BEGIN:DAYLIGHT
TZOFFSETFROM:-0500
TZOFFSETTO:-0400
TZNAME:EDT
DTSTART:20170312T070000
END:DAYLIGHT
BEGIN:STANDARD
TZOFFSETFROM:-0400
TZOFFSETTO:-0500
TZNAME:EST
DTSTART:20171105T060000
END:STANDARD
BEGIN:DAYLIGHT
TZOFFSETFROM:-0500
TZOFFSETTO:-0400
TZNAME:EDT
DTSTART:20180311T070000
END:DAYLIGHT
BEGIN:STANDARD
TZOFFSETFROM:-0400
TZOFFSETTO:-0500
TZNAME:EST
DTSTART:20181104T060000
END:STANDARD
BEGIN:DAYLIGHT
TZOFFSETFROM:-0500
TZOFFSETTO:-0400
TZNAME:EDT
DTSTART:20190310T070000
END:DAYLIGHT
BEGIN:STANDARD
TZOFFSETFROM:-0400
TZOFFSETTO:-0500
TZNAME:EST
DTSTART:20191103T060000
END:STANDARD
BEGIN:DAYLIGHT
TZOFFSETFROM:-0500
TZOFFSETTO:-0400
TZNAME:EDT
DTSTART:20200308T070000
END:DAYLIGHT
BEGIN:STANDARD
TZOFFSETFROM:-0400
TZOFFSETTO:-0500
TZNAME:EST
DTSTART:20201101T060000
END:STANDARD
BEGIN:DAYLIGHT
TZOFFSETFROM:-0500
TZOFFSETTO:-0400
TZNAME:EDT
DTSTART:20210314T070000
END:DAYLIGHT
BEGIN:STANDARD
TZOFFSETFROM:-0400
TZOFFSETTO:-0500
TZNAME:EST
DTSTART:20211107T060000
END:STANDARD
BEGIN:DAYLIGHT
TZOFFSETFROM:-0500
TZOFFSETTO:-0400
TZNAME:EDT
DTSTART:20220313T070000
END:DAYLIGHT
BEGIN:STANDARD
TZOFFSETFROM:-0400
TZOFFSETTO:-0500
TZNAME:EST
DTSTART:20221106T060000
END:STANDARD
BEGIN:DAYLIGHT
TZOFFSETFROM:-0500
TZOFFSETTO:-0400
TZNAME:EDT
DTSTART:20230312T070000
END:DAYLIGHT
BEGIN:STANDARD
TZOFFSETFROM:-0400
TZOFFSETTO:-0500
TZNAME:EST
DTSTART:20231105T060000
END:STANDARD
BEGIN:DAYLIGHT
TZOFFSETFROM:-0500
TZOFFSETTO:-0400
TZNAME:EDT
DTSTART:20240310T070000
END:DAYLIGHT
BEGIN:STANDARD
TZOFFSETFROM:-0400
TZOFFSETTO:-0500
TZNAME:EST
DTSTART:20241103T060000
END:STANDARD
BEGIN:DAYLIGHT
TZOFFSETFROM:-0500
TZOFFSETTO:-0400
TZNAME:EDT
DTSTART:20250309T070000
END:DAYLIGHT
BEGIN:STANDARD
TZOFFSETFROM:-0400
TZOFFSETTO:-0500
TZNAME:EST
DTSTART:20251102T060000
END:STANDARD
END:VTIMEZONE
BEGIN:VEVENT
DTSTART;TZID=America/New_York:20240922T120000
DTEND;TZID=America/New_York:20240922T150000
DTSTAMP:20260419T202443
CREATED:20240911T170709Z
LAST-MODIFIED:20240911T170836Z
UID:8220-1727006400-1727017200@avalonia.org
SUMMARY:Celebration of the Wood-Pawcatuck Wild and Scenic Rivers Stewardship Council Community Grant Program
DESCRIPTION:Green Fall River at Yannatos Preserve\nThe Wood-Pawcatuck Wild & Scenic Rivers Stewardship Council is hosting an event at Grey Sail Brewing in Westerly\, RI on September 22\, 2024 from 11:00 – 3:00 to celebrate their Community Grants Program\, their partners in conservation\, and the various projects funded over the last year. \nAvalonia will host an  informational table with a poster presentation highlighting recent access and ecological enhancements at the Yannatos Preserve in North Stonington. All are welcome to join in the festivities. \nGrey Sail will have wood fired pizza and beverages (including non-alcoholic) available for purchase. Complementary water and cups will be provided. \n  \n  \n 
URL:https://avalonia.org/event/celebration-of-the-wood-pawcatuck-wild-and-scenic-rivers-stewardship-council-community-grant-program/
LOCATION:Grey Sail Brewing\, 63 Canal St.\, Westerly\, RI\, 02891\, United States
CATEGORIES:Community,Conservation,Educational,Festivals
ATTACH;FMTTYPE=image/jpeg:https://avalonia.org/wp-content/uploads/2024/09/Wood-Pawcatuck.jpeg
END:VEVENT
BEGIN:VEVENT
DTSTART;TZID=America/New_York:20240921T073000
DTEND;TZID=America/New_York:20240921T150000
DTSTAMP:20260419T202443
CREATED:20240909T180759Z
LAST-MODIFIED:20240909T180759Z
UID:8214-1726903800-1726930800@avalonia.org
SUMMARY:Water Fest 2024!!
DESCRIPTION:Sponsored by the Alliance for the Mystic River Watershed\, Mashantucket Pequot Museum and Research Center\, and the Lantern Hill Valley Alliance\, come immerse yourself in issues of Community\, Collaboration\, Water\, and Watershed Protection! \n\n7:30-9 For early-bird hikers! Choose easy or rugged hikes on Lantern Hill\n​9:30-4 Waterfest 24\, at 72a Long Pond Road (the area between Homestead and Long Pond roads)\n​9:15\, 11:45\, 1:45 Boat-cleaning demos: With hydrilla threatening in nearby lakes\, it is important for everyone to observe best practices when moving a boat (even a kayak) from place to place.\n​10 Yootây Singers honor the water who gives us life \n11 Conversation Circle : Rahiem Eleazer\, Tobias Glaza\, Ed Lamoreaux\, Maggie Favretti\, Brenda Geer lead a discussion about how to collaborate across local cultural boundaries.\n12 and 2 Guided Paddles to see where the fishway to bring river herring home will go\n1pm Conversation Circle : Pollution Solutions and How to Make a Difference\n\n​All Day: Swimming and Paddling \nFun Learning Activities and opportunities to share your knowledge and hear from local experts about how to care for the water and keep each other safe.   \nParticipate in building our huge relationship map that shows how among all of us we know everyone!  \nTake part in the Mashantucket Pequot Museum’s Harvest Moon Market\, only four minutes away! (11-3) \nDetails and Registration by visiting the Alliance for the Mystic River Watershed homepage or by clicking here.
URL:https://avalonia.org/event/water-fest-2024/
LOCATION:RI
CATEGORIES:Community,Conservation,Educational,Family,Festivals,On the Water,Volunteering,Water
ATTACH;FMTTYPE=image/jpeg:https://avalonia.org/wp-content/uploads/2024/09/Water-Fest-2024.jpeg
END:VEVENT
BEGIN:VEVENT
DTSTART;TZID=America/New_York:20240714T100000
DTEND;TZID=America/New_York:20240714T140000
DTSTAMP:20260419T202443
CREATED:20240620T130329Z
LAST-MODIFIED:20240620T130329Z
UID:7894-1720951200-1720965600@avalonia.org
SUMMARY:Wequetequock Cove Clean Water Coalition Festival
DESCRIPTION:Avalonia will join other organizations and core communities on Sunday July 14 for the Wequetequock Cove Clean Water Coalition  (WCCWC) Festival! \nFunded in part through a grant from the Long Island Sound Stewardship Fund\,  this free festival is designed to engage the local community\, recruit members for the WCCWC\, and provide education about the watershed.  Avalonia has a number of preserves and conservation easements within the watershed and is committed to the coalition’s efforts to enhance the quality of drinking water and recreational and ecological values within the Anguilla Brook/Inner Wequetequock Cove watershed. \nThis promises to be an educational\, fun-filled\, family-friendly experience\, with music\, food\, and drink as well as an optional post-festival paddle in the outer Cove. \nDETAILS: \nDate: July 14\, 2024 \nTime: 10 AM – 2 PM (Optional paddle: 3 PM – 5 PM)\n \nLocation:\n \nLandside: The Hounds\n                769 Stonington Rd\n                Stonington\, CT 06378 \nPaddle Launch Site: Barn Island boat launch\n \nSecondary Launch Site: Stonington Marina (for equipment rental and non-paddlers) \nEntry: Free to outdoor exhibits\n \nHope to see you there!\n 
URL:https://avalonia.org/event/wequetequock-cove-clean-water-coalition-festival/
LOCATION:RI
CATEGORIES:Community,Conservation,Educational,Family,Festivals,Recreation,Stewardship
ATTACH;FMTTYPE=image/jpeg:https://avalonia.org/wp-content/uploads/2016/06/Paffard-Marsh.jpg
END:VEVENT
BEGIN:VEVENT
DTSTART;TZID=America/New_York:20240518T110000
DTEND;TZID=America/New_York:20240518T150000
DTSTAMP:20260419T202443
CREATED:20240308T185306Z
LAST-MODIFIED:20240308T191748Z
UID:7376-1716030000-1716044400@avalonia.org
SUMMARY:Earthfest CT 2024
DESCRIPTION:The community comes together for an expressive celebration featuring environmental organizations (like us!)\, live animal exhibits\, fun food vendors\, and musical guests at McCook Point Park. \nCome visit and say hello. We’ll have lots of info to share and a fun activity for the kids! \nVisit www.earthdayeverydayct.org for more info.
URL:https://avalonia.org/event/earthfest-ct-2024/
LOCATION:McCook Park\, Niantic\, CT\, 06357\, United States
CATEGORIES:Community,Educational,Family,Festivals
ATTACH;FMTTYPE=image/webp:https://avalonia.org/wp-content/uploads/2024/03/earthfest-CT-2024.webp
END:VEVENT
BEGIN:VEVENT
DTSTART;TZID=America/New_York:20240420T110000
DTEND;TZID=America/New_York:20240420T160000
DTSTAMP:20260419T202443
CREATED:20240308T173816Z
LAST-MODIFIED:20240308T191440Z
UID:7364-1713610800-1713628800@avalonia.org
SUMMARY:Groton Earth Day Expo
DESCRIPTION:You are invited to join us at the Groton Earth Day Expo at the Groton Public Library on Saturday\, April 20\, 2024!  \nThe mission of this event is to provide community members education and resources to live more sustainably. At the inaugural event in 2023\, there were over 40 exhibitors\, crafters\, and guest speakers sharing sustainable initiatives\, green living\, climate awareness\, volunteer opportunities\, and more\, with hundreds of attendees from New London County and beyond.  \nWe look forward to seeing you!
URL:https://avalonia.org/event/groton-earth-day-expo/
LOCATION:Groton Public Library\, 52 Newtown Road\, Groton\, CT\, 06340
CATEGORIES:Community,Educational,Family,Festivals,Workshops
ATTACH;FMTTYPE=image/jpeg:https://avalonia.org/wp-content/uploads/2024/03/Earth-Day-Expo-2024.jpeg
END:VEVENT
BEGIN:VEVENT
DTSTART;TZID=America/New_York:20230513T110000
DTEND;TZID=America/New_York:20230513T160000
DTSTAMP:20260419T202443
CREATED:20230426T194845Z
LAST-MODIFIED:20230426T194845Z
UID:6291-1683975600-1683993600@avalonia.org
SUMMARY:Earthfest CT
DESCRIPTION:Avalonia is taking part in this year’s Earthfest CT! \nJoin us on Saturday\, May 13 from 11 am – 4 pm at McCook Point Park in Niantic. We’ll be celebrating the earth at this free event which includes food trucks\, music\, activities for kids\, live animals with our friends at DPNC\, and more. \nFor a full list of organizations participating\, visit: http://www.earthdayeverydayct.org
URL:https://avalonia.org/event/earthfest-ct/
LOCATION:RI
CATEGORIES:Community,Festivals
ATTACH;FMTTYPE=image/jpeg:https://avalonia.org/wp-content/uploads/2023/04/EarthFest2023v3.jpg
END:VEVENT
BEGIN:VEVENT
DTSTART;TZID=America/New_York:20151010T110000
DTEND;TZID=America/New_York:20151010T170000
DTSTAMP:20260419T202443
CREATED:20150709T184202Z
LAST-MODIFIED:20150709T184202Z
UID:591-1444474800-1444496400@avalonia.org
SUMMARY:Groton's Fall Festival
DESCRIPTION:Look for Avalonia’s booth at Groton’s Fall Festival. Be sure to stop by and say hello\, learn about our ongoing projects and meet your fellow conservationists. \nA community-wide event for artists\, crafters\, businesses and nonprofit organizations to display their wares and share information. Over 110 vendors participate and thousands of people from the local area (and some from the not-so-local area) attend. \nhttp://www.mysticchamber.org/events/groton-s-fall-festival
URL:https://avalonia.org/event/grotons-fall-festival/
LOCATION:Poquonnock Plains Park\, Groton\, CT\, United States
CATEGORIES:Festivals
END:VEVENT
BEGIN:VEVENT
DTSTART;TZID=America/New_York:20150926T110000
DTEND;TZID=America/New_York:20150926T160000
DTSTAMP:20260419T202443
CREATED:20150709T183412Z
LAST-MODIFIED:20150709T183412Z
UID:589-1443265200-1443283200@avalonia.org
SUMMARY:North Stonington Harvest Festival
DESCRIPTION:Look for Avalonia’s booth at the North Stonington Harvest Festival. Be sure to stop by and say hello\, learn about our ongoing projects and meet your fellow conservationists. \nEnjoy wagon rides\, animals\, antique tractors\, games\, gardening information\, fishing or hiking\, and great food.  Parking available in two areas: just inside the Hewitt Road entrance off Route 2\, or a quarter mile down Hewitt Road from Ryder Road\, where there is a marked parking area. \n(rain date: Sunday\, September 27)
URL:https://avalonia.org/event/north-stonington-harvest-festival/
LOCATION:Hewitt Farm\, 21 Wyassup Rd\, North Stonington\, CT\, United States
CATEGORIES:Festivals
END:VEVENT
END:VCALENDAR