BEGIN:VCALENDAR
VERSION:2.0
PRODID:-//Avalonia Land Conservancy - ECPv6.15.20//NONSGML v1.0//EN
CALSCALE:GREGORIAN
METHOD:PUBLISH
X-WR-CALNAME:Avalonia Land Conservancy
X-ORIGINAL-URL:https://avalonia.org
X-WR-CALDESC:Events for Avalonia Land Conservancy
REFRESH-INTERVAL;VALUE=DURATION:PT1H
X-Robots-Tag:noindex
X-PUBLISHED-TTL:PT1H
BEGIN:VTIMEZONE
TZID:America/New_York
BEGIN:DAYLIGHT
TZOFFSETFROM:-0500
TZOFFSETTO:-0400
TZNAME:EDT
DTSTART:20210314T070000
END:DAYLIGHT
BEGIN:STANDARD
TZOFFSETFROM:-0400
TZOFFSETTO:-0500
TZNAME:EST
DTSTART:20211107T060000
END:STANDARD
BEGIN:DAYLIGHT
TZOFFSETFROM:-0500
TZOFFSETTO:-0400
TZNAME:EDT
DTSTART:20220313T070000
END:DAYLIGHT
BEGIN:STANDARD
TZOFFSETFROM:-0400
TZOFFSETTO:-0500
TZNAME:EST
DTSTART:20221106T060000
END:STANDARD
BEGIN:DAYLIGHT
TZOFFSETFROM:-0500
TZOFFSETTO:-0400
TZNAME:EDT
DTSTART:20230312T070000
END:DAYLIGHT
BEGIN:STANDARD
TZOFFSETFROM:-0400
TZOFFSETTO:-0500
TZNAME:EST
DTSTART:20231105T060000
END:STANDARD
END:VTIMEZONE
BEGIN:VEVENT
DTSTART;TZID=America/New_York:20220605T133000
DTEND;TZID=America/New_York:20220605T143000
DTSTAMP:20260423T043324
CREATED:20220501T155424Z
LAST-MODIFIED:20220501T155424Z
UID:5370-1654435800-1654439400@avalonia.org
SUMMARY:Leo Antonino Preserve Family Hike
DESCRIPTION:Date: Sunday\, June 5 \nTime: 1:30 pm – 2:30 pm\nHike Leaders:  Janet Anderson and Robert Volkmann\n \nJoin us for family-friendly hike celebrating CT Trails Day at the Leo Antonino Preserve in Groton.  The trail travels through mature woods\, along vernal pools and active brooks\, and near erratics and upthrust sections of granite. Parts are rocky and rooty with elevation changes.\n \nREGISTER HERE
URL:https://avalonia.org/event/leo-antonino-preserve-family-hike/
LOCATION:Leo Antonino Preserve\, 0 Antonino Road\, Groton\, CT\, United States
CATEGORIES:Family,Hikes
END:VEVENT
END:VCALENDAR