BEGIN:VCALENDAR
VERSION:2.0
PRODID:-//Avalonia Land Conservancy - ECPv6.15.20//NONSGML v1.0//EN
CALSCALE:GREGORIAN
METHOD:PUBLISH
X-ORIGINAL-URL:https://avalonia.org
X-WR-CALDESC:Events for Avalonia Land Conservancy
REFRESH-INTERVAL;VALUE=DURATION:PT1H
X-Robots-Tag:noindex
X-PUBLISHED-TTL:PT1H
BEGIN:VTIMEZONE
TZID:America/New_York
BEGIN:DAYLIGHT
TZOFFSETFROM:-0500
TZOFFSETTO:-0400
TZNAME:EDT
DTSTART:20220313T070000
END:DAYLIGHT
BEGIN:STANDARD
TZOFFSETFROM:-0400
TZOFFSETTO:-0500
TZNAME:EST
DTSTART:20221106T060000
END:STANDARD
BEGIN:DAYLIGHT
TZOFFSETFROM:-0500
TZOFFSETTO:-0400
TZNAME:EDT
DTSTART:20230312T070000
END:DAYLIGHT
BEGIN:STANDARD
TZOFFSETFROM:-0400
TZOFFSETTO:-0500
TZNAME:EST
DTSTART:20231105T060000
END:STANDARD
BEGIN:DAYLIGHT
TZOFFSETFROM:-0500
TZOFFSETTO:-0400
TZNAME:EDT
DTSTART:20240310T070000
END:DAYLIGHT
BEGIN:STANDARD
TZOFFSETFROM:-0400
TZOFFSETTO:-0500
TZNAME:EST
DTSTART:20241103T060000
END:STANDARD
END:VTIMEZONE
BEGIN:VEVENT
DTSTART;TZID=America/New_York:20230923T100000
DTEND;TZID=America/New_York:20230923T113000
DTSTAMP:20260421T071821
CREATED:20230828T120048Z
LAST-MODIFIED:20230918T125015Z
UID:6595-1695463200-1695468600@avalonia.org
SUMMARY:Fledglings: A Nature Experience for Children 2-5 *CANCELLED*
DESCRIPTION:*THIS EVENT HAS BEEN CANCELLED*\nChildren ages 2-5 (and their adults) are invited to join naturalist and educator Beth Sullivan and Avalonia Board member Elanah Sherman for a walk through the relatively flat trails at Norwich’s Cedar Wood Preserve. On this walk\, we are going to use our senses to check out EVERYTHING! There is so much to see at this time of year: flowers and other plants; maybe some animals; and all sorts of insects! We will think about how everything in nature seems connected: birds and trees\, bees and flowers\, butterflies and milkweed. And we will think about changes the seasons might bring to them all.  After the walk\, we will gather at the trailhead for a craft project: creating seed bombs. \nThis event is limited to 8 – 10 children. All children must be accompanied by adults. Sturdy\, closed-toe shoes are required. Bug repellant is strongly recommended and will be available at the event. Rain date September 24\, 10-11:30 \nAccessibility Note: \nParking: Off-street lot with room for about 4 cars. One space is accessible to people with disabilities. The lot is located at trailhead. Parking is also available by the side of the road. \nTrails: Long entry boardwalk with step at each end. (Accessible pathway to boardwalk has not yet been installed.) Some rocky spots at initial trail area\, then grassy trails about 4 feet wide\, with some dips and slopes. Some protrusions and tripping hazards. \nCommunication: This walk will be amplified. Sign language interpretation available upon request. \nAvalonia Accessibility Statement \nThis free event is co-sponsored by the City of Norwich.\nFor more information\, please contact Mary Anne Sherman at info@avalonialc.com or 860-884-3500.
URL:https://avalonia.org/event/fledglings-a-nature-experience-for-children-2-5/
LOCATION:Cedar Wood Preserve\, 180 North Wawecus Hill Rd.\, Norwich\, CT\, 06360\, United States
CATEGORIES:Exploration,Family,Nature,Walks
ATTACH;FMTTYPE=image/jpeg:https://avalonia.org/wp-content/uploads/2023/08/Cedar-Wood-Preserve-1-by-Elanah-Sherman-scaled.jpg
END:VEVENT
BEGIN:VEVENT
DTSTART;TZID=America/New_York:20230923T100000
DTEND;TZID=America/New_York:20230923T120000
DTSTAMP:20260421T071821
CREATED:20230826T020549Z
LAST-MODIFIED:20230828T154346Z
UID:6621-1695463200-1695470400@avalonia.org
SUMMARY:Hike & Seek and Beyond at Preston Nature Preserve
DESCRIPTION:Enjoy a late September Hike (& Seek) at Preston Nature Preserve\, one of Avalonia’s 27 Hike & Seek properties. Hike & Seek is a fun\, non-competitive outdoor scavenger hunt. Learn about the nature of the Preserve while using clues to find the items listed. We will provide a trail map with clues or visit the Hike & Seek page for Preston Nature Preserve on our website where you will find a trail map and the Hike & Seek clues. Explore at your own pace and come up with your own clues for new Hike & Seek targets. \nLong-time Avalonia volunteer and Groton Town committee member Joellen Anderson will meet you at the trailhead to explain what to look for on the trails. She’ll also tell you about Avalonia and the history of Preston Nature Preserve before you set off on your self-guided adventure. After your hike\, let us know how many targets you found and what new ones you’d like to add. Share your photos on Instagram. Be sure to tag @avalonialandconservancy and include #MyAvalonia \nPLEASE REGISTER HERE \nTrails: Mostly mowed grass surface pathways through open meadows\, some slopes\, wide enough for several people to traverse side-by-side. One quarter-mile stretch of trail through upland woods\, hilly and narrow\, with some roots and rocks in the pathway\, as well as occasional protruding branches. Some side trails not mowed may be more of a challenge. \nParking: Ample off-street lot\, grass surface\, room for about a dozen cars\, no parking space accessible to people with disabilities. Lot is located on 38 Krug Road at the PNP trailhead. Additional parking is available along Krug Road. \nAvalonia’s Accessibility Statement \nFor more information\, please contact Mary Anne Sherman at info@avalonialc.com or (860) 884-3500.
URL:https://avalonia.org/event/hike-and-seek-and-beyond-at-preston-nature-preserve/
LOCATION:Preston Nature Preserve\, Krug Road\, Preston\, CT\, United States
CATEGORIES:Exploration,Family,Hike & Seek
ATTACH;FMTTYPE=image/jpeg:https://avalonia.org/wp-content/uploads/2023/08/Bird-house-Preston-Nature-Preserve-1.jpeg
END:VEVENT
END:VCALENDAR