BEGIN:VCALENDAR
VERSION:2.0
PRODID:-//Avalonia Land Conservancy - ECPv6.15.20//NONSGML v1.0//EN
CALSCALE:GREGORIAN
METHOD:PUBLISH
X-WR-CALNAME:Avalonia Land Conservancy
X-ORIGINAL-URL:https://avalonia.org
X-WR-CALDESC:Events for Avalonia Land Conservancy
REFRESH-INTERVAL;VALUE=DURATION:PT1H
X-Robots-Tag:noindex
X-PUBLISHED-TTL:PT1H
BEGIN:VTIMEZONE
TZID:America/New_York
BEGIN:DAYLIGHT
TZOFFSETFROM:-0500
TZOFFSETTO:-0400
TZNAME:EDT
DTSTART:20190310T070000
END:DAYLIGHT
BEGIN:STANDARD
TZOFFSETFROM:-0400
TZOFFSETTO:-0500
TZNAME:EST
DTSTART:20191103T060000
END:STANDARD
BEGIN:DAYLIGHT
TZOFFSETFROM:-0500
TZOFFSETTO:-0400
TZNAME:EDT
DTSTART:20200308T070000
END:DAYLIGHT
BEGIN:STANDARD
TZOFFSETFROM:-0400
TZOFFSETTO:-0500
TZNAME:EST
DTSTART:20201101T060000
END:STANDARD
BEGIN:DAYLIGHT
TZOFFSETFROM:-0500
TZOFFSETTO:-0400
TZNAME:EDT
DTSTART:20210314T070000
END:DAYLIGHT
BEGIN:STANDARD
TZOFFSETFROM:-0400
TZOFFSETTO:-0500
TZNAME:EST
DTSTART:20211107T060000
END:STANDARD
END:VTIMEZONE
BEGIN:VEVENT
DTSTART;TZID=America/New_York:20200325T183000
DTEND;TZID=America/New_York:20200325T200000
DTSTAMP:20260425T130825
CREATED:20200227T143040Z
LAST-MODIFIED:20200324T213723Z
UID:3771-1585161000-1585166400@avalonia.org
SUMMARY:A Vernal Pool Adventure\, Babcock Ridge Preserve (CANCELLED)
DESCRIPTION:This event has been cancelled due to Coronavirus concerns. Avalonia trails remain open\, but visitors need to use caution\, avoid large groups\, and use good judgement when meeting other hikers. \nWhile winter has hardly lived up to its name\, an amazing variety of frogs\, salamanders\, and aquatic invertebrates have spent the colder season in hiding. But with the arrival of spring\, they’re coming back to life in the temporary wetlands known as vernal pools. At twilight\, we’ll hike the trail to a group of vernals in Avalonia’s Babcock Ridge Preserve to search for such creatures as Wood Frogs and Spring Peepers\, Spotted and Marbled Salamanders\, and Fairy Shrimp. We might also hear the booming hoots of Barred Owls and the peents of Woodcock. \n\n			\n				\n			\n			\n				\n			\n			\n				\n			\n			\n				\n			\n		\n\nBring a flashlight\, wear warm clothes and waterproof boots\, and don’t forget your spirit of adventure on this family-friendly exploration of a fascinating part of the natural world. \nWalk leader Bruce Fellman has been introducing people to vernal pool life for almost half-a-century. \nphotos: Bruce Fellman
URL:https://avalonia.org/event/a-vernal-pool-adventure-babcock-ridge-preserve-2/
LOCATION:Babcock Ridge\, 113 Babcock Road\, North Stonington\, CT\, United States
CATEGORIES:Family,Hike & Seek,Nature,Walks
ATTACH;FMTTYPE=image/jpeg:https://avalonia.org/wp-content/uploads/2020/02/DSC_4399Aspottedinhand.jpg
END:VEVENT
END:VCALENDAR