BEGIN:VCALENDAR
VERSION:2.0
PRODID:-//Avalonia Land Conservancy - ECPv6.15.20//NONSGML v1.0//EN
CALSCALE:GREGORIAN
METHOD:PUBLISH
X-ORIGINAL-URL:https://avalonia.org
X-WR-CALDESC:Events for Avalonia Land Conservancy
REFRESH-INTERVAL;VALUE=DURATION:PT1H
X-Robots-Tag:noindex
X-PUBLISHED-TTL:PT1H
BEGIN:VTIMEZONE
TZID:America/New_York
BEGIN:DAYLIGHT
TZOFFSETFROM:-0500
TZOFFSETTO:-0400
TZNAME:EDT
DTSTART:20240310T070000
END:DAYLIGHT
BEGIN:STANDARD
TZOFFSETFROM:-0400
TZOFFSETTO:-0500
TZNAME:EST
DTSTART:20241103T060000
END:STANDARD
BEGIN:DAYLIGHT
TZOFFSETFROM:-0500
TZOFFSETTO:-0400
TZNAME:EDT
DTSTART:20250309T070000
END:DAYLIGHT
BEGIN:STANDARD
TZOFFSETFROM:-0400
TZOFFSETTO:-0500
TZNAME:EST
DTSTART:20251102T060000
END:STANDARD
BEGIN:DAYLIGHT
TZOFFSETFROM:-0500
TZOFFSETTO:-0400
TZNAME:EDT
DTSTART:20260308T070000
END:DAYLIGHT
BEGIN:STANDARD
TZOFFSETFROM:-0400
TZOFFSETTO:-0500
TZNAME:EST
DTSTART:20261101T060000
END:STANDARD
BEGIN:DAYLIGHT
TZOFFSETFROM:-0500
TZOFFSETTO:-0400
TZNAME:EDT
DTSTART:20270314T070000
END:DAYLIGHT
BEGIN:STANDARD
TZOFFSETFROM:-0400
TZOFFSETTO:-0500
TZNAME:EST
DTSTART:20271107T060000
END:STANDARD
END:VTIMEZONE
BEGIN:VEVENT
DTSTART;TZID=America/New_York:20250927T090000
DTEND;TZID=America/New_York:20250927T120000
DTSTAMP:20260420T174201
CREATED:20250919T190107Z
LAST-MODIFIED:20250921T080530Z
UID:10388-1758963600-1758974400@avalonia.org
SUMMARY:Volunteer Day: Invasive Species Removal at Anguilla Brook Northern Headwaters Preserve
DESCRIPTION:Join the Eastern Connecticut Conservation District (ECCD) and Avalonia Land Conservancy for a hands-on volunteer day at the Anguilla Brook Northern Headwaters Preserve in Stonington/North Stonington.\n \nWe’ll be working along the brook to remove invasive plants such as Autumn olive\, multiflora rose\, bittersweet\, and Japanese barberry. This important first step will make way for planting native trees\, including Atlantic white cedar\, to restore a rare cedar swamp and establish a riparian buffer.\n \nAll participants will receive training in invasive plant identification and best management practices. Tools and light refreshments will be provided. Please wear sturdy footwear\, bring thick gloves and water\, and feel free to bring loppers or clippers if you have them.\n \nRegistration is required to participate. A confirmation email will include parking information and additional details.\nRegister here: https://InvasiveVolunteerDay1.eventbrite.com\n \nFunding provided by the USDA Forest Service\, administered by the Connecticut Department of Energy and Environmental Protection (DEEP).
URL:https://avalonia.org/event/volunteer-day-invasive-species-removal-at-anguilla-brook-northern-headwaters-preserve/
LOCATION:Anguilla Brook Northern Headwaters Preserve\, 33 N Anguilla Road\, North Stonington\, CT\, 06359\, United States
CATEGORIES:Conservation,Educational,Stewardship
ATTACH;FMTTYPE=image/jpeg:https://avalonia.org/wp-content/uploads/2025/09/ABNH-Invasive-Removal-scaled.jpg
END:VEVENT
BEGIN:VEVENT
DTSTART;TZID=America/New_York:20251007T183000
DTEND;TZID=America/New_York:20251007T193000
DTSTAMP:20260420T174201
CREATED:20250915T163833Z
LAST-MODIFIED:20250915T163851Z
UID:10238-1759861800-1759865400@avalonia.org
SUMMARY:Upcoming Landscape Mobile App Tutorial
DESCRIPTION:The lifeblood of Avalonia has always been the passion and commitment of its volunteers!  This is no more evident than in the realm of stewardship where we rely on volunteers to assist in maintaining trails\, monitoring properties\, and to engage in a variety of conservation projects.  \nScan QR code to register\nAvalonia’s volunteers have more than met the call by embracing the use of Landscape land conservation software and its accompanying mobile app. We began our transition to this program nearly two years ago and since then we’ve held numerous formal and informal training sessions. Since May of this year\, we have dedicated the first Tuesday of each month for virtual tutorials and trouble shooting sessions for existing Landscape users. \nOur “critical mass” of volunteers using the Landscape mobile app has certainly grown\, with nearly 60 active users\, but we are looking\, this coming October 7 from 6:30 – 7:30 pm\, to engage with first time users in a virtual training session.  Prerequisites are few  …access to a computer\, use of a smart phone\, a one hour attention span\, and the desire to apply what you learn one one or more of our beautiful preserves. \nRegister here so that a user profile can be developed for you and so that any necessary information can be funneled your way in advance of October 7th.
URL:https://avalonia.org/event/upcoming-landscape-mobile-app-tutorial/
CATEGORIES:Educational,Stewardship,Workshops
ATTACH;FMTTYPE=image/jpeg:https://avalonia.org/wp-content/uploads/2023/10/Landscape-app-test-rotated.jpg
END:VEVENT
BEGIN:VEVENT
DTSTART;TZID=America/New_York:20251202T183000
DTEND;TZID=America/New_York:20251202T193000
DTSTAMP:20260420T174201
CREATED:20251128T155305Z
LAST-MODIFIED:20251128T155305Z
UID:10629-1764700200-1764703800@avalonia.org
SUMMARY:Upcoming Landscape Mobile App Tutorial
DESCRIPTION:The lifeblood of Avalonia has always been the passion and commitment of its volunteers!  This is no more evident than in the realm of stewardship where we rely on volunteers to assist in maintaining trails\, monitoring properties\, and to engage in a variety of conservation projects.  \nScan QR code to register\nAvalonia’s volunteers have more than met the call by embracing the use of Landscape land conservation software and its accompanying mobile app. We began our transition to this program nearly two years ago and since then we’ve held numerous formal and informal training sessions. Since May of this year\, we have dedicated the first Tuesday of each month for virtual tutorials and trouble shooting sessions for existing Landscape users. \nOur “critical mass” of volunteers using the Landscape mobile app has certainly grown\, with nearly 60 active users\, but we are looking\, this coming December 2 from 6:30 – 7:30 pm\, to engage with first time users in a virtual training session.  Prerequisites are few  …access to a computer\, use of a smart phone\, a one hour attention span\, and the desire to apply what you learn one one or more of our beautiful preserves. \nRegister here so that a user profile can be developed for you and so that any necessary information can be funneled your way in advance of December 2th.
URL:https://avalonia.org/event/upcoming-landscape-mobile-app-tutorial-2/
CATEGORIES:Educational,Stewardship,Workshops
ATTACH;FMTTYPE=image/jpeg:https://avalonia.org/wp-content/uploads/2023/10/Landscape-app-test-rotated.jpg
END:VEVENT
BEGIN:VEVENT
DTSTART;TZID=America/New_York:20260425T110000
DTEND;TZID=America/New_York:20260425T160000
DTSTAMP:20260420T174201
CREATED:20260304T160222Z
LAST-MODIFIED:20260304T160222Z
UID:11104-1777114800-1777132800@avalonia.org
SUMMARY:Fourth Annual Earth Day Expo at the Groton Public Library
DESCRIPTION:Avalonia is proud to be an exhibitor at this annual\, family-friendly event\, featuring 50+ exhibitors\, community organizations\, and vendors sharing resources and information on sustainable initiatives\, green living\, and more. \n \nJoin us for a fun-filled day of caring for our planet. This event will be held rain or shine\, and additional parking will be available at Thrive 55+ Active Living Center.\n \nVisit Fourth Annual Earth Day Expo to find out more\n \n 
URL:https://avalonia.org/event/fourth-annual-earth-day-expo-at-the-groton-public-library/
LOCATION:Groton Public Library\, 52 Newtown Road\, Groton\, CT\, 06340
CATEGORIES:Community,Educational,Exploration,Family
ATTACH;FMTTYPE=image/jpeg:https://avalonia.org/wp-content/uploads/2026/03/Earth-Day-Expo-2026.jpg
END:VEVENT
END:VCALENDAR