BEGIN:VCALENDAR
VERSION:2.0
PRODID:-//Avalonia Land Conservancy - ECPv6.15.20//NONSGML v1.0//EN
CALSCALE:GREGORIAN
METHOD:PUBLISH
X-WR-CALNAME:Avalonia Land Conservancy
X-ORIGINAL-URL:https://avalonia.org
X-WR-CALDESC:Events for Avalonia Land Conservancy
REFRESH-INTERVAL;VALUE=DURATION:PT1H
X-Robots-Tag:noindex
X-PUBLISHED-TTL:PT1H
BEGIN:VTIMEZONE
TZID:America/New_York
BEGIN:DAYLIGHT
TZOFFSETFROM:-0500
TZOFFSETTO:-0400
TZNAME:EDT
DTSTART:20160313T070000
END:DAYLIGHT
BEGIN:STANDARD
TZOFFSETFROM:-0400
TZOFFSETTO:-0500
TZNAME:EST
DTSTART:20161106T060000
END:STANDARD
BEGIN:DAYLIGHT
TZOFFSETFROM:-0500
TZOFFSETTO:-0400
TZNAME:EDT
DTSTART:20170312T070000
END:DAYLIGHT
BEGIN:STANDARD
TZOFFSETFROM:-0400
TZOFFSETTO:-0500
TZNAME:EST
DTSTART:20171105T060000
END:STANDARD
BEGIN:DAYLIGHT
TZOFFSETFROM:-0500
TZOFFSETTO:-0400
TZNAME:EDT
DTSTART:20180311T070000
END:DAYLIGHT
BEGIN:STANDARD
TZOFFSETFROM:-0400
TZOFFSETTO:-0500
TZNAME:EST
DTSTART:20181104T060000
END:STANDARD
BEGIN:DAYLIGHT
TZOFFSETFROM:-0500
TZOFFSETTO:-0400
TZNAME:EDT
DTSTART:20190310T070000
END:DAYLIGHT
BEGIN:STANDARD
TZOFFSETFROM:-0400
TZOFFSETTO:-0500
TZNAME:EST
DTSTART:20191103T060000
END:STANDARD
BEGIN:DAYLIGHT
TZOFFSETFROM:-0500
TZOFFSETTO:-0400
TZNAME:EDT
DTSTART:20200308T070000
END:DAYLIGHT
BEGIN:STANDARD
TZOFFSETFROM:-0400
TZOFFSETTO:-0500
TZNAME:EST
DTSTART:20201101T060000
END:STANDARD
END:VTIMEZONE
BEGIN:VEVENT
DTSTART;TZID=America/New_York:20191213T170000
DTEND;TZID=America/New_York:20191213T210000
DTSTAMP:20260420T190122
CREATED:20191206T202813Z
LAST-MODIFIED:20191213T182334Z
UID:3594-1576256400-1576270800@avalonia.org
SUMMARY:Celebrate Avalonia at Outer Light Brewing Company!
DESCRIPTION:If you like beer\, you’ll love Outer Light Brewing Company! And Outer Light Brewing loves Avalonia! Visit their tap room on Friday\, December 13 between 5:00 and 9:00 PM and be sure to ask for their newest USDA certified organic Outsider IPA and a portion of your purchase will go to Avalonia Land Conservancy to conserve the land you love. \nRolling Tomato food truck will be there between 5-5:30pm and there will be give-a-ways! \nWe hope you can join us for a good time and a great organic ale. Be sure to let your server know you are there to support Avalonia and the land you love. Thanks\, we’ll see you there!
URL:https://avalonia.org/event/celebrate-avalonia-at-outer-light-brewing-company/
LOCATION:Outer Light Brewing Company\, 266 Bridge Street\, Groton\, CT\, United States
CATEGORIES:Dinners & Gatherings
ATTACH;FMTTYPE=image/jpeg:https://avalonia.org/wp-content/uploads/2019/12/olb.jpg
END:VEVENT
BEGIN:VEVENT
DTSTART;TZID=America/New_York:20170718T173000
DTEND;TZID=America/New_York:20170718T193000
DTSTAMP:20260420T190122
CREATED:20170713T202521Z
LAST-MODIFIED:20170713T202521Z
UID:1849-1500399000-1500406200@avalonia.org
SUMMARY:Picnic in the Park w/ Mystic Aquarium
DESCRIPTION:This event is hosted by Mystic Aquarium and requires $10 ticket per family (up to 4) with registration. \n“Families participating in Picnic in the Park programs will be provided a pizza dinner\, unstructured play activities\, and an opportunity to meet other nature play loving families! We’ll explore the rocky shore environment and tide pools as we discover the rich history of this hidden gem in Stonington Borough.” – Mystic Aquarium
URL:https://avalonia.org/event/picnic-in-the-park-w-mystic-aquarium/
LOCATION:Dodge Paddock & Beal Preserves\, 32 Wall Street\, Stonington Borough\, CT\, 06378\, United States
CATEGORIES:Dinners & Gatherings,Exploration,Family,Preserves
END:VEVENT
BEGIN:VEVENT
DTSTART;TZID=America/New_York:20170310T173000
DTEND;TZID=America/New_York:20170310T210000
DTSTAMP:20260420T190122
CREATED:20170131T152735Z
LAST-MODIFIED:20170310T181144Z
UID:1439-1489167000-1489179600@avalonia.org
SUMMARY:Winter Gathering 2017 (despite today's snow\, it's a go!)
DESCRIPTION:UPDATE: We have been diligently watching the weather and road conditions and it looks like we are good to go for tonight’s Winter Gathering. Hope to see you there!\nJoin us for good fellowship\, good fun\, and good food! Bring your friends!
URL:https://avalonia.org/event/winter-gathering-2017/
LOCATION:Mystic Congregational Church\, 43 E Main St\, Mystic\, CT\, 06355\, United States
CATEGORIES:Dinners & Gatherings
END:VEVENT
END:VCALENDAR