BEGIN:VCALENDAR
VERSION:2.0
PRODID:-//Avalonia Land Conservancy - ECPv6.15.20//NONSGML v1.0//EN
CALSCALE:GREGORIAN
METHOD:PUBLISH
X-WR-CALNAME:Avalonia Land Conservancy
X-ORIGINAL-URL:https://avalonia.org
X-WR-CALDESC:Events for Avalonia Land Conservancy
REFRESH-INTERVAL;VALUE=DURATION:PT1H
X-Robots-Tag:noindex
X-PUBLISHED-TTL:PT1H
BEGIN:VTIMEZONE
TZID:America/New_York
BEGIN:DAYLIGHT
TZOFFSETFROM:-0500
TZOFFSETTO:-0400
TZNAME:EDT
DTSTART:20140309T070000
END:DAYLIGHT
BEGIN:STANDARD
TZOFFSETFROM:-0400
TZOFFSETTO:-0500
TZNAME:EST
DTSTART:20141102T060000
END:STANDARD
BEGIN:DAYLIGHT
TZOFFSETFROM:-0500
TZOFFSETTO:-0400
TZNAME:EDT
DTSTART:20150308T070000
END:DAYLIGHT
BEGIN:STANDARD
TZOFFSETFROM:-0400
TZOFFSETTO:-0500
TZNAME:EST
DTSTART:20151101T060000
END:STANDARD
BEGIN:DAYLIGHT
TZOFFSETFROM:-0500
TZOFFSETTO:-0400
TZNAME:EDT
DTSTART:20160313T070000
END:DAYLIGHT
BEGIN:STANDARD
TZOFFSETFROM:-0400
TZOFFSETTO:-0500
TZNAME:EST
DTSTART:20161106T060000
END:STANDARD
BEGIN:DAYLIGHT
TZOFFSETFROM:-0500
TZOFFSETTO:-0400
TZNAME:EDT
DTSTART:20170312T070000
END:DAYLIGHT
BEGIN:STANDARD
TZOFFSETFROM:-0400
TZOFFSETTO:-0500
TZNAME:EST
DTSTART:20171105T060000
END:STANDARD
END:VTIMEZONE
BEGIN:VEVENT
DTSTART;TZID=America/New_York:20161001T100500
DTEND;TZID=America/New_York:20161001T125000
DTSTAMP:20260420T033649
CREATED:20160906T152729Z
LAST-MODIFIED:20160921T185945Z
UID:1245-1475316300-1475326200@avalonia.org
SUMMARY:Argia Private Charter Cruise
DESCRIPTION:PURCHASE TICKETS \n \nPURCHASE TICKETS
URL:https://avalonia.org/event/argia-private-charter-cruise/
LOCATION:Argia Mystic Cruises\, 15 Holmes St # 7\, Mystic\, CT\, 06355\, United States
CATEGORIES:Cruises
END:VEVENT
BEGIN:VEVENT
DTSTART;TZID=America/New_York:20150926T092000
DTEND;TZID=America/New_York:20150926T125000
DTSTAMP:20260420T033649
CREATED:20150716T144913Z
LAST-MODIFIED:20150916T161022Z
UID:603-1443259200-1443271800@avalonia.org
SUMMARY:Argia Cruise
DESCRIPTION:Mary Ellen Mateleska will be our Naturalist tour guide aboard the Argia. \nBUY TICKETS
URL:https://avalonia.org/event/argia-cruise/
LOCATION:Argia Mystic Cruises\, 15 Holmes St # 7\, Mystic\, CT\, 06355\, United States
CATEGORIES:Cruises,Recreation
END:VEVENT
END:VCALENDAR